BEGIN:VCALENDAR
VERSION:2.0
PRODID:-//Patchwork Central - ECPv6.15.20//NONSGML v1.0//EN
CALSCALE:GREGORIAN
METHOD:PUBLISH
X-WR-CALNAME:Patchwork Central
X-ORIGINAL-URL:https://patchwork.org
X-WR-CALDESC:Events for Patchwork Central
REFRESH-INTERVAL;VALUE=DURATION:PT1H
X-Robots-Tag:noindex
X-PUBLISHED-TTL:PT1H
BEGIN:VTIMEZONE
TZID:UTC
BEGIN:STANDARD
TZOFFSETFROM:+0000
TZOFFSETTO:+0000
TZNAME:UTC
DTSTART:20160101T000000
END:STANDARD
END:VTIMEZONE
BEGIN:VEVENT
DTSTART;VALUE=DATE:20190325
DTEND;VALUE=DATE:20190329
DTSTAMP:20260425T120634
CREATED:20190304T180929Z
LAST-MODIFIED:20190304T180929Z
UID:2893-1553472000-1553817599@patchwork.org
SUMMARY:No Arts & Smarts Program
DESCRIPTION:It’s EVSC Spring Break\, so our Arts & Smarts Program is on break\, too.
URL:https://patchwork.org/event/no-arts-smarts-program/
END:VEVENT
BEGIN:VEVENT
DTSTART;TZID=UTC:20190228T120000
DTEND;TZID=UTC:20190228T133000
DTSTAMP:20260425T120634
CREATED:20190125T210523Z
LAST-MODIFIED:20190125T210523Z
UID:2864-1551355200-1551360600@patchwork.org
SUMMARY:Soup\, Salad\, & Style!
DESCRIPTION:Join us on Thursday\, February 28 for Patchwork Central’s annual Soup\, Salad\, & Style fundraising luncheon! \nNew location in 2019!\nThis year our luncheon will be held at 2001 Bayard Park Drive (East Side Christian Church) in Evansville. \nDoors open at 11:30 am & the meal begins at noon. \nLuncheon includes:\n– A Gourmet Lunch\n– Spring Fashions from Wildflower Boutique\n– Art by Patchwork Children for every guest\n– Silent and live auctions of items and original artwork \nIndividual tickets cost $50 and can be purchased online or by sending a check to Patchwork Central. If you have seating preferences\, please note them or call Patchwork Central (812) 424-2735 and let us know. \nContact Patchwork to learn more about the following sponsorship levels:\nCorporate Sponsor: $1000\nTable Sponsor: $500\nEvent Sponsor: $100 \nWe appreciate your support of Patchwork Central and its programming through your ticket purchase. With your help\, we will continue to serve our neighbors and our community! $30 of every ticket purchased is tax deductible. As this is a fundraising event\, there are no refunds.
URL:https://patchwork.org/event/soup-salad-style-2/
LOCATION:East Side Christian Church\, 2001 Bayard Park Drive\, Evansville\, in\, 47714
CATEGORIES:Fundraising Events
ATTACH;FMTTYPE=image/jpeg:https://patchwork.org/wp-content/uploads/2019/01/Flower-Cassie-20b.jpg
END:VEVENT
BEGIN:VEVENT
DTSTART;VALUE=DATE:20190103
DTEND;VALUE=DATE:20190104
DTSTAMP:20260425T120634
CREATED:20181206T231450Z
LAST-MODIFIED:20181206T231450Z
UID:2823-1546473600-1546559999@patchwork.org
SUMMARY:Start of Spring Semester of Arts & Smarts Children's Program
DESCRIPTION:
URL:https://patchwork.org/event/start-of-spring-semester-of-arts-smarts-childrens-program/
END:VEVENT
BEGIN:VEVENT
DTSTART;VALUE=DATE:20190101
DTEND;VALUE=DATE:20190103
DTSTAMP:20260425T120634
CREATED:20181206T232849Z
LAST-MODIFIED:20181206T232849Z
UID:2835-1546300800-1546473599@patchwork.org
SUMMARY:Patchwork Central Closed
DESCRIPTION:
URL:https://patchwork.org/event/patchwork-central-closed/
END:VEVENT
BEGIN:VEVENT
DTSTART;VALUE=DATE:20181224
DTEND;VALUE=DATE:20190101
DTSTAMP:20260425T120634
CREATED:20181019T163322Z
LAST-MODIFIED:20181206T232817Z
UID:2775-1545609600-1546300799@patchwork.org
SUMMARY:Patchwork Central Closed
DESCRIPTION:
URL:https://patchwork.org/event/patchwork-central-offices-closed/
END:VEVENT
BEGIN:VEVENT
DTSTART;VALUE=DATE:20181217
DTEND;VALUE=DATE:20181221
DTSTAMP:20260425T120634
CREATED:20181206T232624Z
LAST-MODIFIED:20181206T232624Z
UID:2830-1545004800-1545350399@patchwork.org
SUMMARY:Patchwork Open 8:30 am-Noon only. Arts & Smarts on Break
DESCRIPTION:
URL:https://patchwork.org/event/patchwork-open-830-am-noon-only-arts-smarts-on-break-2/
END:VEVENT
BEGIN:VEVENT
DTSTART;VALUE=DATE:20181210
DTEND;VALUE=DATE:20181214
DTSTAMP:20260425T120634
CREATED:20181206T232524Z
LAST-MODIFIED:20181206T232524Z
UID:2828-1544400000-1544745599@patchwork.org
SUMMARY:Patchwork Open 8:30 am-Noon only. Arts & Smarts on Break
DESCRIPTION:
URL:https://patchwork.org/event/patchwork-open-830-am-noon-only-arts-smarts-on-break/
END:VEVENT
BEGIN:VEVENT
DTSTART;VALUE=DATE:20181203
DTEND;VALUE=DATE:20181207
DTSTAMP:20260425T120634
CREATED:20181206T232657Z
LAST-MODIFIED:20181206T232657Z
UID:2832-1543795200-1544140799@patchwork.org
SUMMARY:Patchwork Open 8:30 am-Noon only. Arts & Smarts on Break
DESCRIPTION:
URL:https://patchwork.org/event/patchwork-open-830-am-noon-only-arts-smarts-on-break-3/
END:VEVENT
BEGIN:VEVENT
DTSTART;VALUE=DATE:20181122
DTEND;VALUE=DATE:20181124
DTSTAMP:20260425T120634
CREATED:20181019T163527Z
LAST-MODIFIED:20181019T163527Z
UID:2777-1542844800-1543017599@patchwork.org
SUMMARY:Patchwork Central Offices Closed
DESCRIPTION:
URL:https://patchwork.org/event/patchwork-central-offices-closed-2/
END:VEVENT
BEGIN:VEVENT
DTSTART;TZID=UTC:20181110T090000
DTEND;TZID=UTC:20181110T150000
DTSTAMP:20260425T120634
CREATED:20181019T163205Z
LAST-MODIFIED:20181019T163205Z
UID:2771-1541840400-1541862000@patchwork.org
SUMMARY:Holiday Art Sale
DESCRIPTION:Featuring:\n*Unique Handmade Gifts!\n*Art by Local Artists!\n*Quirky nativity sets by children participating in Patchwork’s Art & Company!\n*A chance to support a great community organization while shopping for gifts for your family and friends! \nFind it all at Patchwork Central’s annual Holiday Art Sale! \nAdmission is free and 30% of every purchase will be given to support Patchwork’s programming.
URL:https://patchwork.org/event/holiday-art-sale-2/
LOCATION:Patchwork Central\, 100 Washington Ave\, Evansville\, IN\, 47713\, United States
CATEGORIES:Fundraising Events
ATTACH;FMTTYPE=image/jpeg:https://patchwork.org/wp-content/uploads/2018/10/P1600090.jpg
END:VEVENT
BEGIN:VEVENT
DTSTART;TZID=UTC:20180907T173000
DTEND;TZID=UTC:20180907T210000
DTSTAMP:20260425T120634
CREATED:20180309T221113Z
LAST-MODIFIED:20180309T221113Z
UID:2609-1536341400-1536354000@patchwork.org
SUMMARY:September First Friday at Patchwork Central
DESCRIPTION:Music! Food! Art! \nStop by Patchwork Central during your Haynie’s Corner First Friday Stroll. \nIndoors\, we’ll feature the music of Monte Skelton and food by Turn Table\, LLC plus visual art by a variety of local artists. \nOutdoors\, you’ll find music in the Patchwork Central tower and additional dinner options from food trucks across the street (feel free to bring your meal to Patchwork to eat in comfort). Your entire family is welcome! \nThere will be other fun music and art all the way from the Haynie’s Corner Fountain to StaC Art Gallery\, so plan to spend the evening in the Haynie’s Corner Arts District!
URL:https://patchwork.org/event/september-first-friday-at-patchwork-central-2/
LOCATION:Patchwork Central\, 100 Washington Ave\, Evansville\, IN\, 47713\, United States
CATEGORIES:First Friday
ATTACH;FMTTYPE=image/jpeg:https://patchwork.org/wp-content/uploads/2018/03/P1480916-e1520633461662.jpg
END:VEVENT
BEGIN:VEVENT
DTSTART;TZID=UTC:20180803T173000
DTEND;TZID=UTC:20180803T210000
DTSTAMP:20260425T120634
CREATED:20180309T220552Z
LAST-MODIFIED:20180309T220552Z
UID:2606-1533317400-1533330000@patchwork.org
SUMMARY:August First Friday at Patchwork Central
DESCRIPTION:Music! Food! Art! \nStop by Patchwork Central during your Haynie’s Corner First Friday Stroll. \nIndoors\, we’ll feature the music of Monte Skelton and food by Turn Table\, LLC plus visual art by a variety of local artists. \nOutdoors\, you’ll find music in the Patchwork Central tower and additional dinner options from food trucks across the street (feel free to bring your meal to Patchwork to eat in comfort). Your entire family is welcome! \nThere will be other fun music and art all the way from the Haynie’s Corner Fountain to StaC Art Gallery\, so plan to spend the evening in the Haynie’s Corner Arts District!
URL:https://patchwork.org/event/august-first-friday-at-patchwork-central-2/
LOCATION:Patchwork Central\, 100 Washington Ave\, Evansville\, IN\, 47713\, United States
CATEGORIES:First Friday
ATTACH;FMTTYPE=image/jpeg:https://patchwork.org/wp-content/uploads/2018/03/P1540297-e1520633139211.jpg
END:VEVENT
BEGIN:VEVENT
DTSTART;TZID=UTC:20180728T083000
DTEND;TZID=UTC:20180728T110000
DTSTAMP:20260425T120634
CREATED:20180309T225135Z
LAST-MODIFIED:20180309T225135Z
UID:2627-1532766600-1532775600@patchwork.org
SUMMARY:Back to School Sale
DESCRIPTION:Prepare your child for the new school year. Purchase bags designed for grades K-5 at a minimal cost. New socks and underwear as well as assorted supplies will also be sold at a minimal cost.
URL:https://patchwork.org/event/back-to-school-sale-2/
LOCATION:Patchwork Central\, 100 Washington Ave\, Evansville\, IN\, 47713\, United States
CATEGORIES:Other
ATTACH;FMTTYPE=image/jpeg:https://patchwork.org/wp-content/uploads/2018/03/P1570544-e1520635887737.jpg
END:VEVENT
BEGIN:VEVENT
DTSTART;TZID=UTC:20180709T093000
DTEND;TZID=UTC:20180712T114500
DTSTAMP:20260425T120634
CREATED:20180309T224650Z
LAST-MODIFIED:20180309T224650Z
UID:2624-1531128600-1531395900@patchwork.org
SUMMARY:Art Garden Week II
DESCRIPTION:Join us for the first Art Garden Week! \nParticipants will do storytelling with Susan Fowler\, create art in Patchwork’s studio\, learn about gardening\, and cook tasty food using garden produce. \nRegistration forms for participants\, high school volunteers\, and adult volunteers will be available in Patchwork’s main office and on our website.
URL:https://patchwork.org/event/art-garden-week-ii/
LOCATION:Patchwork Central\, 100 Washington Ave\, Evansville\, IN\, 47713\, United States
CATEGORIES:Arts & Smarts Events
ATTACH;FMTTYPE=image/jpeg:https://patchwork.org/wp-content/uploads/2018/03/P1570091-e1520635597768.jpg
END:VEVENT
BEGIN:VEVENT
DTSTART;TZID=UTC:20180706T173000
DTEND;TZID=UTC:20180706T210000
DTSTAMP:20260425T120634
CREATED:20180309T220309Z
LAST-MODIFIED:20180309T220309Z
UID:2603-1530898200-1530910800@patchwork.org
SUMMARY:July First Friday at Patchwork Central
DESCRIPTION:Music! Food! Art! \nStop by Patchwork Central during your Haynie’s Corner First Friday Stroll. \nIndoors\, we’ll feature the music of Monte Skelton and food by Turn Table\, LLC plus visual art by a variety of local artists. \nOutdoors\, you’ll find music in the Patchwork Central tower and additional dinner options from food trucks across the street (feel free to bring your meal to Patchwork to eat in comfort). Your entire family is welcome! \nThere will be other fun music and art all the way from the Haynie’s Corner Fountain to StaC Art Gallery\, so plan to spend the evening in the Haynie’s Corner Arts District!
URL:https://patchwork.org/event/july-first-friday-at-patchwork-central-2/
LOCATION:Patchwork Central\, 100 Washington Ave\, Evansville\, IN\, 47713\, United States
CATEGORIES:First Friday
ATTACH;FMTTYPE=image/jpeg:https://patchwork.org/wp-content/uploads/2018/03/P1570786-e1520632978210.jpg
END:VEVENT
BEGIN:VEVENT
DTSTART;TZID=UTC:20180625T093000
DTEND;TZID=UTC:20180628T233000
DTSTAMP:20260425T120634
CREATED:20180328T190557Z
LAST-MODIFIED:20180328T190557Z
UID:2642-1529919000-1530228600@patchwork.org
SUMMARY:Dance Week
DESCRIPTION:Try out dances from around the world! The week will be taught by Sadia Brimm in partnership with the Children’s Center for Dance Education.
URL:https://patchwork.org/event/dance-week/
LOCATION:Patchwork Central\, 100 Washington Ave\, Evansville\, IN\, 47713\, United States
CATEGORIES:Arts & Smarts Events
ATTACH;FMTTYPE=image/jpeg:https://patchwork.org/wp-content/uploads/2017/07/P1530506-e1499291191488.jpg
END:VEVENT
BEGIN:VEVENT
DTSTART;TZID=UTC:20180618T093000
DTEND;TZID=UTC:20180621T113000
DTSTAMP:20260425T120634
CREATED:20180309T224137Z
LAST-MODIFIED:20180327T211228Z
UID:2621-1529314200-1529580600@patchwork.org
SUMMARY:Advanced Bike Repair Week
DESCRIPTION:Participants in grades 6-8 along with High School Volunteers will build on bike repair skills learned during the previous week. The group will also learn about how to safely ride in a group. \nThis week is being presented in partnership with EVPL’s Year in Hip Hop series.
URL:https://patchwork.org/event/bike-art-week/
LOCATION:Patchwork Central\, 100 Washington Ave\, Evansville\, IN\, 47713\, United States
CATEGORIES:Arts & Smarts Events
ATTACH;FMTTYPE=image/jpeg:https://patchwork.org/wp-content/uploads/2018/03/P1480796-e1520635282556.jpg
END:VEVENT
BEGIN:VEVENT
DTSTART;TZID=UTC:20180611T093000
DTEND;TZID=UTC:20180614T113000
DTSTAMP:20260425T120634
CREATED:20180309T223712Z
LAST-MODIFIED:20180309T223712Z
UID:2618-1528709400-1528975800@patchwork.org
SUMMARY:Bike Repair Week
DESCRIPTION:Participants in grades 6-8 plus High School Volunteers will learn the basics of bike repair. They will be able to work on their own bikes as well as bikes that will be donated to those in need who visit Patchwork’s Bike Shop. \nThe learning will continue the following week when participants’ bike repair skills will be applied to the creation of art bikes. \nThis week is being presented in partnership the EVPL’s Year of Hip Hop.
URL:https://patchwork.org/event/bike-repair-week/
LOCATION:Patchwork Central\, 100 Washington Ave\, Evansville\, IN\, 47713\, United States
CATEGORIES:Arts & Smarts Events
ATTACH;FMTTYPE=image/jpeg:https://patchwork.org/wp-content/uploads/2018/03/P1450942-e1520635012407.jpg
END:VEVENT
BEGIN:VEVENT
DTSTART;TZID=UTC:20180604T093000
DTEND;TZID=UTC:20180607T114500
DTSTAMP:20260425T120634
CREATED:20180309T223014Z
LAST-MODIFIED:20180309T223014Z
UID:2615-1528104600-1528371900@patchwork.org
SUMMARY:Art Garden Week I
DESCRIPTION:Join us for the first Art Garden Week! \nParticipants will do storytelling with Susan Fowler\, create art in Patchwork’s studio\, learn about gardening\, and cook tasty food using garden produce. \nRegistration forms for participants\, high school volunteers\, and adult volunteers will be available in Patchwork’s main office and on our website.
URL:https://patchwork.org/event/art-garden-week-i/
LOCATION:Patchwork Central\, 100 Washington Ave\, Evansville\, IN\, 47713\, United States
ATTACH;FMTTYPE=image/jpeg:https://patchwork.org/wp-content/uploads/2018/03/P1510460-e1520634554193.jpg
END:VEVENT
BEGIN:VEVENT
DTSTART;TZID=UTC:20180601T173000
DTEND;TZID=UTC:20180601T210000
DTSTAMP:20260425T120634
CREATED:20180309T215819Z
LAST-MODIFIED:20180309T215819Z
UID:2599-1527874200-1527886800@patchwork.org
SUMMARY:June First Friday at Patchwork Central
DESCRIPTION:Music! Food! Art! \nStop by Patchwork Central during your Haynie’s Corner First Friday Stroll. \nIndoors\, we’ll feature the music of Monte Skelton and food by Turn Table\, LLC plus visual art by a variety of local artists. \nOutdoors\, you’ll find music in the Patchwork Central tower and additional dinner options from food trucks across the street (feel free to bring your meal to Patchwork to eat in comfort). Your entire family is welcome! \nThere will be other fun music and art all the way from the Haynie’s Corner Fountain to StaC Art Gallery\, so plan to spend the evening in the Haynie’s Corner Arts District!
URL:https://patchwork.org/event/june-first-friday-at-patchwork-central-2/
LOCATION:Patchwork Central\, 100 Washington Ave\, Evansville\, IN\, 47713\, United States
CATEGORIES:First Friday
ATTACH;FMTTYPE=image/jpeg:https://patchwork.org/wp-content/uploads/2018/03/P1500388-e1520632687248.jpg
END:VEVENT
BEGIN:VEVENT
DTSTART;TZID=UTC:20180504T173000
DTEND;TZID=UTC:20180504T210000
DTSTAMP:20260425T120634
CREATED:20180309T215301Z
LAST-MODIFIED:20180309T215301Z
UID:2596-1525455000-1525467600@patchwork.org
SUMMARY:May First Friday at Patchwork Central
DESCRIPTION:Music! Food! Art! \nStop by Patchwork Central during your Haynie’s Corner First Friday Stroll. \nIndoors\, we’ll feature the music of Monte Skelton and food by Turn Table\, LLC plus visual art by a variety of local artists. \nOutdoors\, you’ll find music in the Patchwork Central tower and additional dinner options from food trucks across the street (feel free to bring your meal to Patchwork to eat in comfort). Your entire family is welcome! \nThere will be other fun music and art all the way from the Haynie’s Corner Fountain to StaC Art Gallery\, so plan to spend the evening in the Haynie’s Corner Arts District!
URL:https://patchwork.org/event/may-first-friday-at-patchwork-central/
LOCATION:Patchwork Central\, 100 Washington Ave\, Evansville\, IN\, 47713\, United States
CATEGORIES:First Friday
ATTACH;FMTTYPE=image/jpeg:https://patchwork.org/wp-content/uploads/2018/03/P1540334-e1520632370100.jpg
END:VEVENT
BEGIN:VEVENT
DTSTART;TZID=UTC:20180426T173000
DTEND;TZID=UTC:20180426T190000
DTSTAMP:20260425T120634
CREATED:20180309T214311Z
LAST-MODIFIED:20180309T214311Z
UID:2591-1524763800-1524769200@patchwork.org
SUMMARY:End of the School Year Celebration
DESCRIPTION:Join us to celebrate the accomplishments of this year’s Arts & Smarts program! \nFamily and friends are invited to the program followed by a picnic supper.
URL:https://patchwork.org/event/end-of-the-school-year-celebration/
LOCATION:Patchwork Central\, 100 Washington Ave\, Evansville\, IN\, 47713\, United States
CATEGORIES:Arts & Smarts Events
ATTACH;FMTTYPE=image/jpeg:https://patchwork.org/wp-content/uploads/2018/03/Flower-Cassie-20-e1520028553352.jpg
END:VEVENT
BEGIN:VEVENT
DTSTART;TZID=UTC:20180421T073000
DTEND;TZID=UTC:20180421T113000
DTSTAMP:20260425T120634
CREATED:20180309T214037Z
LAST-MODIFIED:20180309T214037Z
UID:2587-1524295800-1524310200@patchwork.org
SUMMARY:Patchwork's Pancake Extravaganza
DESCRIPTION:Join us for delicious all-you-can-eat pancakes as well as sausage\, cooked apples\, juice\, and great coffee. Enjoy a warm and friendly morning with your neighbors. \nYou can also purchase unique art from the children in Patchwork’s Art & Company activities. As part of Art & Company\, children work beside adults to create spring-themed products\, learn the basics of operating a small business\, then put their learning into practice as they sell their work. \nOnce you’ve enjoyed a tasty breakfast at Patchwork\, you can stroll over to our friends at Haynie’s Corner for more artwork at the Spring Funk in the City Art Festival! \nCall 424-2735 for additional information. \nAll proceeds will benefit the ongoing work of Patchwork Central to serve the people of our community through after school and summer children’s arts and education programs\, an emergency food pantry\, a community garden\, and other support services.
URL:https://patchwork.org/event/patchworks-pancake-extravaganza/
LOCATION:Patchwork Central\, 100 Washington Ave\, Evansville\, IN\, 47713\, United States
CATEGORIES:Fundraising Events
ATTACH;FMTTYPE=image/jpeg:https://patchwork.org/wp-content/uploads/2018/03/P1490776-e1520631524691.jpg
ORGANIZER;CN="Amy Rich":MAILTO:amyrich@patchwork.org
END:VEVENT
BEGIN:VEVENT
DTSTART;TZID=UTC:20180406T173000
DTEND;TZID=UTC:20180406T210000
DTSTAMP:20260425T120634
CREATED:20180309T214950Z
LAST-MODIFIED:20180309T214950Z
UID:2593-1523035800-1523048400@patchwork.org
SUMMARY:April First Friday at Patchwork Central
DESCRIPTION:Music! Food! Art! \nStop by Patchwork Central during your Haynie’s Corner First Friday Stroll. \nIndoors\, we’ll feature the music of Monte Skelton and food by Turn Table\, LLC plus visual art by a variety of local artists. \nOutdoors\, you’ll find music in the Patchwork Central tower and additional dinner options from food trucks across the street (feel free to bring your meal to Patchwork to eat in comfort). Your entire family is welcome! \nThere will be other fun music and art all the way from the Haynie’s Corner Fountain to StaC Art Gallery\, so plan to spend the evening in the Haynie’s Corner Arts District!
URL:https://patchwork.org/event/april-first-friday-at-patchwork-central/
LOCATION:Patchwork Central\, 100 Washington Ave\, Evansville\, IN\, 47713\, United States
CATEGORIES:First Friday
ATTACH;FMTTYPE=image/jpeg:https://patchwork.org/wp-content/uploads/2018/03/P1500409-e1520632144976.jpg
END:VEVENT
BEGIN:VEVENT
DTSTART;VALUE=DATE:20180326
DTEND;VALUE=DATE:20180330
DTSTAMP:20260425T120634
CREATED:20180309T221653Z
LAST-MODIFIED:20180309T221653Z
UID:2612-1522022400-1522367999@patchwork.org
SUMMARY:Arts & Smarts Spring Break
DESCRIPTION:No Arts & Smarts program this week! \nPatchwork will only be open mornings from 8:30 am-Noon.
URL:https://patchwork.org/event/arts-smarts-spring-break/
LOCATION:Patchwork Central\, 100 Washington Ave\, Evansville\, IN\, 47713\, United States
CATEGORIES:Other
END:VEVENT
BEGIN:VEVENT
DTSTART;TZID=UTC:20180222T120000
DTEND;TZID=UTC:20180222T133000
DTSTAMP:20260425T120634
CREATED:20171115T213320Z
LAST-MODIFIED:20180130T221839Z
UID:2504-1519300800-1519306200@patchwork.org
SUMMARY:Soup\, Salad\, & Style!
DESCRIPTION:Join us for Patchwork’s annual Soup\, Salad\, & Style fundraising luncheon! \nLunch includes:\n– A Gourmet Lunch with a Spring Theme\n– Spring Fashions from Wildflower Boutique\n– Art by Patchwork Children for every guest\n– Silent and live auctions of items and original artwork \nIndividual tickets cost $45 and tables of eight cost $500. Purchase your ticket online (additional fees apply) or send a check to Patchwork Central\, 100 Washington Avenue\, Evansville\, IN 47713. \nCorporate\, Table\, & Event sponsorships are available. Contact Patchwork for more details! \nAll proceeds benefit Patchwork Central. $25 of each ticket is tax deductible.
URL:https://patchwork.org/event/soup-salad-style/
LOCATION:Patchwork Central\, 100 Washington Ave\, Evansville\, IN\, 47713\, United States
CATEGORIES:Fundraising Events
ATTACH;FMTTYPE=image/jpeg:https://patchwork.org/wp-content/uploads/2017/11/Caroline-best-e1510781562857.jpg
ORGANIZER;CN="Amy Rich":MAILTO:amyrich@patchwork.org
END:VEVENT
BEGIN:VEVENT
DTSTART;TZID=UTC:20171111T090000
DTEND;TZID=UTC:20171111T150000
DTSTAMP:20260425T120634
CREATED:20170530T224322Z
LAST-MODIFIED:20170530T224322Z
UID:2389-1510390800-1510412400@patchwork.org
SUMMARY:Holiday Art Sale
DESCRIPTION:Featuring:\n*Unique Handmade Gifts!\n*Art by Local Artists!\n*Quirky nativity sets by children participating in Patchwork’s Art & Company!\n*A chance to support a great community organization while shopping for gifts for your family and friends! \nFind it all at Patchwork Central’s annual Holiday Art Sale! \nAdmission is free and 30% of every purchase will be given to support Patchwork’s programming. \nItems for sale will include paintings\, drawings\, greeting cards\, fiber arts\, jewelry\, and ceramics.
URL:https://patchwork.org/event/holiday-art-sale/
LOCATION:Patchwork Central\, 100 Washington Ave\, Evansville\, IN\, 47713\, United States
CATEGORIES:Fundraising Events
ATTACH;FMTTYPE=image/jpeg:https://patchwork.org/wp-content/uploads/2017/05/P1440997.jpg
END:VEVENT
BEGIN:VEVENT
DTSTART;TZID=UTC:20170905T143000
DTEND;TZID=UTC:20170905T170000
DTSTAMP:20260425T120634
CREATED:20170530T223610Z
LAST-MODIFIED:20170530T224540Z
UID:2386-1504621800-1504630800@patchwork.org
SUMMARY:First Day of After School Arts & Smarts Activities
DESCRIPTION:It’s back to school time! \nToday is the first day of Tutoring for children in grades 1-5 and the first day of Leadership Training for youth in grades 6-8. \nCheck our website for registration forms.
URL:https://patchwork.org/event/first-day-of-after-school-arts-smarts-activities/
CATEGORIES:Arts & Smarts Events
ATTACH;FMTTYPE=image/jpeg:https://patchwork.org/wp-content/uploads/2013/09/p1080221.jpg
END:VEVENT
BEGIN:VEVENT
DTSTART;TZID=UTC:20170901T180000
DTEND;TZID=UTC:20170901T210000
DTSTAMP:20260425T120634
CREATED:20170530T222258Z
LAST-MODIFIED:20170530T222258Z
UID:2381-1504288800-1504299600@patchwork.org
SUMMARY:September First Friday at Patchwork Central
DESCRIPTION:Music! Art! Children’s Activities! Food! You and your family will find it all at Patchwork Central! \nAlso at Patchwork: a special art lesson for kids at 7 pm! \nYou can pick up supper from food trucks across the street and eat it while you listen to the live music indoors or on Patchwork’s lawn. You will be able to choose from several food trucks.
URL:https://patchwork.org/event/september-first-friday-at-patchwork-central/
LOCATION:Patchwork Central\, 100 Washington Ave\, Evansville\, IN\, 47713\, United States
CATEGORIES:First Friday
ATTACH;FMTTYPE=image/jpeg:https://patchwork.org/wp-content/uploads/2013/11/p1090182-p.jpg
END:VEVENT
BEGIN:VEVENT
DTSTART;TZID=UTC:20170804T180000
DTEND;TZID=UTC:20170804T210000
DTSTAMP:20260425T120634
CREATED:20170530T222013Z
LAST-MODIFIED:20170530T222013Z
UID:2379-1501869600-1501880400@patchwork.org
SUMMARY:August First Friday at Patchwork Central
DESCRIPTION:Music! Art! Children’s Activities! Food! You and your family will find it all at Patchwork Central! \nAlso at Patchwork: a special art lesson for kids at 7 pm! \nYou can pick up supper from food trucks across the street and eat it while you listen to the live music indoors or on Patchwork’s lawn. You will be able to choose from several food trucks.
URL:https://patchwork.org/event/august-first-friday-at-patchwork-central/
LOCATION:Patchwork Central\, 100 Washington Ave\, Evansville\, IN\, 47713\, United States
CATEGORIES:First Friday
ATTACH;FMTTYPE=image/jpeg:https://patchwork.org/wp-content/uploads/2016/08/p1430111.jpg
END:VEVENT
END:VCALENDAR