BEGIN:VCALENDAR
VERSION:2.0
PRODID:-//Patchwork Central - ECPv6.15.20//NONSGML v1.0//EN
CALSCALE:GREGORIAN
METHOD:PUBLISH
X-WR-CALNAME:Patchwork Central
X-ORIGINAL-URL:https://patchwork.org
X-WR-CALDESC:Events for Patchwork Central
REFRESH-INTERVAL;VALUE=DURATION:PT1H
X-Robots-Tag:noindex
X-PUBLISHED-TTL:PT1H
BEGIN:VTIMEZONE
TZID:UTC
BEGIN:STANDARD
TZOFFSETFROM:+0000
TZOFFSETTO:+0000
TZNAME:UTC
DTSTART:20180101T000000
END:STANDARD
END:VTIMEZONE
BEGIN:VEVENT
DTSTART;TZID=UTC:20210731T080000
DTEND;TZID=UTC:20210731T110000
DTSTAMP:20260425T144341
CREATED:20210722T155444Z
LAST-MODIFIED:20210722T155444Z
UID:3301-1627718400-1627729200@patchwork.org
SUMMARY:Back to School Sale
DESCRIPTION:Every child can be ready for the new school year!\n\nAt Patchwork’s Back to School Sale\, parents and guardians can purchase bags of new school supplies\, new socks and underwear\, and other assorted supplies.\n\nBags for grades K-3 cost $6 and bags for grades 4 & 5 cost $8.\n\nFamilies with children in grades 6-12 may purchase assorted supplies or bags for younger grades because many of the supplies will work for older grade levels.\n\nDoors will open at 8:00 am. Supplies are limited\, so come early for the best selection.\n\nChildren do not have to be present for parents to purchase supplies. Cash or check payment only.\n\nPatchwork is also in need of volunteers to help with setup and on the day of the sale\, as well as financial contributions to help us underwrite the cost of the supplies we distribute.\n\nQuestions? Call Patchwork at (812) 424-2735.
URL:https://patchwork.org/event/back-to-school-sale-3/
LOCATION:IN
CATEGORIES:Other
ATTACH;FMTTYPE=image/jpeg:https://patchwork.org/wp-content/uploads/2021/07/Back-to-School-2021-handout.jpg
END:VEVENT
BEGIN:VEVENT
DTSTART;TZID=UTC:20210702T173000
DTEND;TZID=UTC:20210702T210000
DTSTAMP:20260425T144341
CREATED:20210527T215319Z
LAST-MODIFIED:20210527T215319Z
UID:3280-1625247000-1625259600@patchwork.org
SUMMARY:July First Friday
DESCRIPTION:Join us for First Friday in the Haynie’s Corner Arts District! Enjoy food trucks on Washington Avenue in front of Patchwork Central and live music in Patchwork’s tower. From Patchwork\, you can walk to the other First Friday activities at the fountain on Haynie’s Corner or you can walk to Stef L’s Amour First Friday Block Party
URL:https://patchwork.org/event/july-first-friday-2/
LOCATION:Patchwork Central\, 100 Washington Ave\, Evansville\, IN\, 47713\, United States
CATEGORIES:First Friday
ATTACH;FMTTYPE=image/jpeg:https://patchwork.org/wp-content/uploads/2021/05/P1800304-scaled.jpg
END:VEVENT
BEGIN:VEVENT
DTSTART;TZID=UTC:20210604T173000
DTEND;TZID=UTC:20210604T210000
DTSTAMP:20260425T144341
CREATED:20210527T214556Z
LAST-MODIFIED:20210527T214556Z
UID:3277-1622827800-1622840400@patchwork.org
SUMMARY:June First Friday
DESCRIPTION:Join us for First Friday in the Haynie’s Corner Arts District! Enjoy food trucks on Washington Avenue in front of Patchwork Central and live music by Simon P. Moore in Patchwork’s tower. From Patchwork\, you can walk to the other First Friday activities at the fountain on Haynie’s Corner or you can walk to Stef L’s Amour First Friday Block Party.
URL:https://patchwork.org/event/june-first-friday-2/
LOCATION:Patchwork Central\, 100 Washington Ave\, Evansville\, IN\, 47713\, United States
CATEGORIES:First Friday
ATTACH;FMTTYPE=image/jpeg:https://patchwork.org/wp-content/uploads/2021/05/P1830856-scaled.jpg
END:VEVENT
BEGIN:VEVENT
DTSTART;TZID=UTC:20200227T120000
DTEND;TZID=UTC:20200227T133000
DTSTAMP:20260425T144341
CREATED:20191114T172034Z
LAST-MODIFIED:20200109T230550Z
UID:3055-1582804800-1582810200@patchwork.org
SUMMARY:Soup\, Salad\, & STYLE!
DESCRIPTION:Join us for Patchwork’s annual fundraising luncheon! \nThe event will be held at 2001 Bayard Park Drive (East Side Christian Church) in Evansville. \nDoors open at 11:30 am & the meal begins at noon. \nLuncheon includes:\n– A Gourmet Lunch\n– Spring Fashions from Wildflower Boutique\n– Art by Patchwork Children for every guest\n– Silent and live auctions of items and original artwork \nIndividual tickets cost $50. Payment can be made by sending a check to Patchwork Central (100 Washington Ave\, Evansville\, IN 47713) or by using this link to online ticket sales. $30 of every ticket purchased is tax deductible. As this is a fundraising event\, there are no refunds. If you have seating preferences\, please note them when you pay or call Patchwork Central (812) 424-2735 and let us know. \nContact Patchwork to learn more about the following sponsorship levels:\n— Corporate Sponsor: $1000\n— Table Sponsor: $500\n— Event Sponsor: $100 \nWe appreciate your support of Patchwork Central and its programming through your ticket purchase. With your help\, we will continue to serve our neighbors and our community!
URL:https://patchwork.org/event/soup-salad-style-3/
LOCATION:East Side Christian Church\, 2001 Bayard Park Drive\, Evansville\, in\, 47714
CATEGORIES:Fundraising Events
ATTACH;FMTTYPE=image/jpeg:https://patchwork.org/wp-content/uploads/2019/11/P1750745.jpg
END:VEVENT
BEGIN:VEVENT
DTSTART;VALUE=DATE:20200106
DTEND;VALUE=DATE:20200107
DTSTAMP:20260425T144341
CREATED:20191114T180416Z
LAST-MODIFIED:20191114T180416Z
UID:3075-1578268800-1578355199@patchwork.org
SUMMARY:Patchwork Open 8:30-Noon -- NO Arts & Smarts
DESCRIPTION:
URL:https://patchwork.org/event/patchwork-open-830-noon-no-arts-smarts/
LOCATION:IN
END:VEVENT
BEGIN:VEVENT
DTSTART;VALUE=DATE:20191224
DTEND;VALUE=DATE:20200104
DTSTAMP:20260425T144341
CREATED:20191114T180246Z
LAST-MODIFIED:20191114T180246Z
UID:3073-1577145600-1578095999@patchwork.org
SUMMARY:Patchwork Closed for the Holidays
DESCRIPTION:
URL:https://patchwork.org/event/patchwork-closed-for-the-holidays/
LOCATION:IN
END:VEVENT
BEGIN:VEVENT
DTSTART;VALUE=DATE:20191223
DTEND;VALUE=DATE:20191224
DTSTAMP:20260425T144341
CREATED:20191114T175909Z
LAST-MODIFIED:20191114T175909Z
UID:3071-1577059200-1577145599@patchwork.org
SUMMARY:Patchwork open 8:30-Noon
DESCRIPTION:
URL:https://patchwork.org/event/patchwork-open-830-noon/
LOCATION:IN
END:VEVENT
BEGIN:VEVENT
DTSTART;VALUE=DATE:20191216
DTEND;VALUE=DATE:20191220
DTSTAMP:20260425T144341
CREATED:20191114T175333Z
LAST-MODIFIED:20191114T175333Z
UID:3067-1576454400-1576799999@patchwork.org
SUMMARY:Patchwork open 8:30-noon -- Closed in the afternoon
DESCRIPTION:The Arts & Smarts Program is on break
URL:https://patchwork.org/event/patchwork-open-830-noon-closed-in-the-afternoon-2/
LOCATION:IN
END:VEVENT
BEGIN:VEVENT
DTSTART;VALUE=DATE:20191209
DTEND;VALUE=DATE:20191213
DTSTAMP:20260425T144341
CREATED:20191114T175549Z
LAST-MODIFIED:20191114T175638Z
UID:3069-1575849600-1576195199@patchwork.org
SUMMARY:Patchwork open 8:30-noon -- Closed in the afternoon
DESCRIPTION:The Arts & Smarts Program is on break
URL:https://patchwork.org/event/patchwork-open-830-noon-closed-in-the-afternoon-3/
LOCATION:IN
END:VEVENT
BEGIN:VEVENT
DTSTART;TZID=UTC:20191205T144500
DTEND;TZID=UTC:20191205T171500
DTSTAMP:20260425T144341
CREATED:20191114T172420Z
LAST-MODIFIED:20191114T172439Z
UID:3058-1575557100-1575566100@patchwork.org
SUMMARY:Arts & Smarts Christmas Party
DESCRIPTION:It’s a party for any children and youth who participated in the Arts & Smarts program during the fall of 2019! We’ll have food\, carols\, and fun!
URL:https://patchwork.org/event/arts-smarts-christmas-party/
LOCATION:IN
CATEGORIES:Arts & Smarts Events
ATTACH;FMTTYPE=image/jpeg:https://patchwork.org/wp-content/uploads/2018/12/P1740087.jpg
END:VEVENT
BEGIN:VEVENT
DTSTART;VALUE=DATE:20191128
DTEND;VALUE=DATE:20191130
DTSTAMP:20260425T144341
CREATED:20191114T172627Z
LAST-MODIFIED:20191114T172751Z
UID:3060-1574899200-1575071999@patchwork.org
SUMMARY:Thanksgiving - Patchwork Closed
DESCRIPTION:Patchwork Central closed \nHave a happy Thanksgiving!
URL:https://patchwork.org/event/thanksgiving/
LOCATION:IN
END:VEVENT
BEGIN:VEVENT
DTSTART;VALUE=DATE:20191127
DTEND;VALUE=DATE:20191128
DTSTAMP:20260425T144341
CREATED:20191114T173706Z
LAST-MODIFIED:20191114T173706Z
UID:3063-1574812800-1574899199@patchwork.org
SUMMARY:No Arts & Smarts - Thanksgiving Break
DESCRIPTION:Patchwork will be open in the morning\, but we will be closed in the afternoon.
URL:https://patchwork.org/event/no-arts-smarts-thanksgiving-break/
LOCATION:IN
END:VEVENT
BEGIN:VEVENT
DTSTART;TZID=UTC:20191109T090000
DTEND;TZID=UTC:20191109T150000
DTSTAMP:20260425T144341
CREATED:20190906T171707Z
LAST-MODIFIED:20190906T171707Z
UID:3028-1573290000-1573311600@patchwork.org
SUMMARY:Holiday Art Sale
DESCRIPTION:Start your holiday shopping with gifts created by local artists! Artwork will include ceramics\, jewelry\, fiber arts\, stationary\, and paintings. 30% of every purchase will be given to support Patchwork Central. Admission is free.
URL:https://patchwork.org/event/holiday-art-sale-3/
LOCATION:IN
CATEGORIES:Fundraising Events
ATTACH;FMTTYPE=image/jpeg:https://patchwork.org/wp-content/uploads/2019/09/P1730213-Copy.jpg
END:VEVENT
BEGIN:VEVENT
DTSTART;TZID=UTC:20191004T173000
DTEND;TZID=UTC:20191004T210000
DTSTAMP:20260425T144341
CREATED:20190304T194718Z
LAST-MODIFIED:20190304T194718Z
UID:2910-1570210200-1570222800@patchwork.org
SUMMARY:October First Friday
DESCRIPTION:Music! Food! Art! \nStop by Patchwork Central during your Haynie’s Corner First Friday Stroll.
URL:https://patchwork.org/event/october-first-friday/
LOCATION:IN
CATEGORIES:First Friday
ATTACH;FMTTYPE=image/jpeg:https://patchwork.org/wp-content/uploads/2019/03/P1680774.jpg
END:VEVENT
BEGIN:VEVENT
DTSTART;TZID=UTC:20190906T173000
DTEND;TZID=UTC:20190906T210000
DTSTAMP:20260425T144341
CREATED:20190304T194526Z
LAST-MODIFIED:20190304T194732Z
UID:2907-1567791000-1567803600@patchwork.org
SUMMARY:September First Friday
DESCRIPTION:Music! Food! Art! \nStop by Patchwork Central during your Haynie’s Corner First Friday Stroll.
URL:https://patchwork.org/event/september-first-friday/
LOCATION:IN
CATEGORIES:First Friday
ATTACH;FMTTYPE=image/jpeg:https://patchwork.org/wp-content/uploads/2019/03/P1650391.jpg
END:VEVENT
BEGIN:VEVENT
DTSTART;TZID=UTC:20190802T173000
DTEND;TZID=UTC:20190802T210000
DTSTAMP:20260425T144341
CREATED:20190304T194318Z
LAST-MODIFIED:20190304T194746Z
UID:2904-1564767000-1564779600@patchwork.org
SUMMARY:August First Friday
DESCRIPTION:Music! Food! Art! \nStop by Patchwork Central during your Haynie’s Corner First Friday Stroll.
URL:https://patchwork.org/event/august-first-friday/
LOCATION:IN
CATEGORIES:First Friday
ATTACH;FMTTYPE=image/jpeg:https://patchwork.org/wp-content/uploads/2019/03/P1680794.jpg
END:VEVENT
BEGIN:VEVENT
DTSTART;TZID=UTC:20190711T173000
DTEND;TZID=UTC:20190711T193000
DTSTAMP:20260425T144341
CREATED:20190418T145121Z
LAST-MODIFIED:20190418T145121Z
UID:2962-1562866200-1562873400@patchwork.org
SUMMARY:Garden Feast
DESCRIPTION:Come celebrate the summer in the Arts & Smarts Program! Participants\, volunteers\, and their families and friends are all welcome. Bring a potluck dish to share!
URL:https://patchwork.org/event/garden-feast/
LOCATION:Patchwork Central\, 100 Washington Ave\, Evansville\, IN\, 47713\, United States
CATEGORIES:Arts & Smarts Events
ATTACH;FMTTYPE=image/jpeg:https://patchwork.org/wp-content/uploads/2018/07/P1700536.jpg
END:VEVENT
BEGIN:VEVENT
DTSTART;VALUE=DATE:20190708
DTEND;VALUE=DATE:20190712
DTSTAMP:20260425T144341
CREATED:20190418T144713Z
LAST-MODIFIED:20190418T144713Z
UID:2960-1562544000-1562889599@patchwork.org
SUMMARY:Art Garden Week II
DESCRIPTION:Art! Gardening! Storytelling with Susan Fowler! Register your child today!
URL:https://patchwork.org/event/art-garden-week-ii-2/
LOCATION:IN
CATEGORIES:Arts & Smarts Events
ATTACH;FMTTYPE=image/jpeg:https://patchwork.org/wp-content/uploads/2018/07/P1690150.jpg
END:VEVENT
BEGIN:VEVENT
DTSTART;TZID=UTC:20190705T173000
DTEND;TZID=UTC:20190705T210000
DTSTAMP:20260425T144341
CREATED:20190304T193323Z
LAST-MODIFIED:20190304T194805Z
UID:2901-1562347800-1562360400@patchwork.org
SUMMARY:July First Friday
DESCRIPTION:Music! Food! Art! \nStop by Patchwork Central during your Haynie’s Corner First Friday Stroll.
URL:https://patchwork.org/event/july-first-friday/
LOCATION:IN
CATEGORIES:First Friday
ATTACH;FMTTYPE=image/jpeg:https://patchwork.org/wp-content/uploads/2019/03/P1680764.jpg
END:VEVENT
BEGIN:VEVENT
DTSTART;VALUE=DATE:20190624
DTEND;VALUE=DATE:20190628
DTSTAMP:20260425T144341
CREATED:20190418T144357Z
LAST-MODIFIED:20190418T144357Z
UID:2958-1561334400-1561679999@patchwork.org
SUMMARY:Dance Week
DESCRIPTION:Try dances and creative movement from around the world! This week of Summer Arts & Smarts is presented in collaboration with the Children’s Center for Dance Education.
URL:https://patchwork.org/event/dance-week-2/
LOCATION:Patchwork Central\, 100 Washington Ave\, Evansville\, IN\, 47713\, United States
CATEGORIES:Arts & Smarts Events
ATTACH;FMTTYPE=image/jpeg:https://patchwork.org/wp-content/uploads/2018/06/P1680406-e1530307224996.jpg
END:VEVENT
BEGIN:VEVENT
DTSTART;VALUE=DATE:20190617
DTEND;VALUE=DATE:20190621
DTSTAMP:20260425T144341
CREATED:20190418T144156Z
LAST-MODIFIED:20190418T144156Z
UID:2956-1560729600-1561075199@patchwork.org
SUMMARY:Bike Week II
DESCRIPTION:Build on skills learned during Bike Week I by helping to complete a service project!
URL:https://patchwork.org/event/bike-week-ii/
LOCATION:Patchwork Central\, 100 Washington Ave\, Evansville\, IN\, 47713\, United States
CATEGORIES:Arts & Smarts Events
ATTACH;FMTTYPE=image/jpeg:https://patchwork.org/wp-content/uploads/2018/06/P1670164-e1529098136930.jpg
END:VEVENT
BEGIN:VEVENT
DTSTART;VALUE=DATE:20190610
DTEND;VALUE=DATE:20190614
DTSTAMP:20260425T144341
CREATED:20190418T144035Z
LAST-MODIFIED:20190418T144035Z
UID:2954-1560124800-1560470399@patchwork.org
SUMMARY:Bike Week I
DESCRIPTION:Learn bike repair basics! Register your child today!
URL:https://patchwork.org/event/bike-week-i/
LOCATION:Patchwork Central\, 100 Washington Ave\, Evansville\, IN\, 47713\, United States
CATEGORIES:Arts & Smarts Events
ATTACH;FMTTYPE=image/jpeg:https://patchwork.org/wp-content/uploads/2018/06/P1660942.jpg
END:VEVENT
BEGIN:VEVENT
DTSTART;TZID=UTC:20190607T173000
DTEND;TZID=UTC:20190607T210000
DTSTAMP:20260425T144341
CREATED:20190304T181626Z
LAST-MODIFIED:20190304T194831Z
UID:2898-1559928600-1559941200@patchwork.org
SUMMARY:June First Friday
DESCRIPTION:Music! Food! Art! \nStop by Patchwork Central during your Haynie’s Corner First Friday Stroll.
URL:https://patchwork.org/event/june-first-friday/
LOCATION:IN
CATEGORIES:First Friday
ATTACH;FMTTYPE=image/jpeg:https://patchwork.org/wp-content/uploads/2019/03/P1650369.jpg
END:VEVENT
BEGIN:VEVENT
DTSTART;VALUE=DATE:20190603
DTEND;VALUE=DATE:20190607
DTSTAMP:20260425T144341
CREATED:20190418T143912Z
LAST-MODIFIED:20190418T144819Z
UID:2952-1559520000-1559865599@patchwork.org
SUMMARY:Art Garden Week I
DESCRIPTION:Gardening! Art! Storytelling with Susan Fowler! Register your child today!
URL:https://patchwork.org/event/art-garden-week-i-2/
LOCATION:Patchwork Central\, 100 Washington Ave\, Evansville\, IN\, 47713\, United States
ATTACH;FMTTYPE=image/jpeg:https://patchwork.org/wp-content/uploads/2018/06/P1510075.jpg
END:VEVENT
BEGIN:VEVENT
DTSTART;TZID=UTC:20190503T173000
DTEND;TZID=UTC:20190503T210000
DTSTAMP:20260425T144341
CREATED:20190304T181300Z
LAST-MODIFIED:20190304T181300Z
UID:2895-1556904600-1556917200@patchwork.org
SUMMARY:May First Friday
DESCRIPTION:Music! Food! Art! \nStop by Patchwork Central during your Haynie’s Corner First Friday Stroll.
URL:https://patchwork.org/event/may-first-friday/
LOCATION:IN
CATEGORIES:First Friday
ATTACH;FMTTYPE=image/jpeg:https://patchwork.org/wp-content/uploads/2019/03/P1650356.jpg
END:VEVENT
BEGIN:VEVENT
DTSTART;TZID=UTC:20190425T173000
DTEND;TZID=UTC:20190425T193000
DTSTAMP:20260425T144341
CREATED:20181206T233152Z
LAST-MODIFIED:20181206T233152Z
UID:2837-1556213400-1556220600@patchwork.org
SUMMARY:End of the School Year Celebration
DESCRIPTION:Join us to celebrate the accomplishments of this year’s Arts & Smarts program! \nFamily and friends are invited to the program followed by a picnic supper.
URL:https://patchwork.org/event/end-of-the-school-year-celebration-2/
LOCATION:Patchwork Central\, 100 Washington Ave\, Evansville\, IN\, 47713\, United States
CATEGORIES:Arts & Smarts Events
ATTACH;FMTTYPE=image/jpeg:https://patchwork.org/wp-content/uploads/2018/03/Flower-Elijah-e1520028622901.jpg
END:VEVENT
BEGIN:VEVENT
DTSTART;TZID=UTC:20190413T073000
DTEND;TZID=UTC:20190413T113000
DTSTAMP:20260425T144341
CREATED:20181206T232227Z
LAST-MODIFIED:20190304T172205Z
UID:2825-1555140600-1555155000@patchwork.org
SUMMARY:Pancake Extravaganza
DESCRIPTION:Join us for delicious all-you-can-eat pancakes as well as sausage\, cooked apples\, juice\, and great coffee. Enjoy a warm and friendly morning with your neighbors. \nCall 424-2735 for additional information. \nAll proceeds will benefit the ongoing work of Patchwork Central to serve the people of our community through after school and summer children’s arts and education programs\, an emergency food pantry\, a community garden\, and other support services.
URL:https://patchwork.org/event/pancake-extravaganza/
LOCATION:Patchwork Central\, 100 Washington Ave\, Evansville\, IN\, 47713\, United States
CATEGORIES:Fundraising Events
ATTACH;FMTTYPE=image/jpeg:https://patchwork.org/wp-content/uploads/2018/12/P1630966.jpg
END:VEVENT
BEGIN:VEVENT
DTSTART;VALUE=DATE:20190325
DTEND;VALUE=DATE:20190329
DTSTAMP:20260425T144341
CREATED:20190304T180929Z
LAST-MODIFIED:20190304T180929Z
UID:2893-1553472000-1553817599@patchwork.org
SUMMARY:No Arts & Smarts Program
DESCRIPTION:It’s EVSC Spring Break\, so our Arts & Smarts Program is on break\, too.
URL:https://patchwork.org/event/no-arts-smarts-program/
LOCATION:IN
END:VEVENT
BEGIN:VEVENT
DTSTART;TZID=UTC:20190228T120000
DTEND;TZID=UTC:20190228T133000
DTSTAMP:20260425T144341
CREATED:20190125T210523Z
LAST-MODIFIED:20190125T210523Z
UID:2864-1551355200-1551360600@patchwork.org
SUMMARY:Soup\, Salad\, & Style!
DESCRIPTION:Join us on Thursday\, February 28 for Patchwork Central’s annual Soup\, Salad\, & Style fundraising luncheon! \nNew location in 2019!\nThis year our luncheon will be held at 2001 Bayard Park Drive (East Side Christian Church) in Evansville. \nDoors open at 11:30 am & the meal begins at noon. \nLuncheon includes:\n– A Gourmet Lunch\n– Spring Fashions from Wildflower Boutique\n– Art by Patchwork Children for every guest\n– Silent and live auctions of items and original artwork \nIndividual tickets cost $50 and can be purchased online or by sending a check to Patchwork Central. If you have seating preferences\, please note them or call Patchwork Central (812) 424-2735 and let us know. \nContact Patchwork to learn more about the following sponsorship levels:\nCorporate Sponsor: $1000\nTable Sponsor: $500\nEvent Sponsor: $100 \nWe appreciate your support of Patchwork Central and its programming through your ticket purchase. With your help\, we will continue to serve our neighbors and our community! $30 of every ticket purchased is tax deductible. As this is a fundraising event\, there are no refunds.
URL:https://patchwork.org/event/soup-salad-style-2/
LOCATION:East Side Christian Church\, 2001 Bayard Park Drive\, Evansville\, in\, 47714
CATEGORIES:Fundraising Events
ATTACH;FMTTYPE=image/jpeg:https://patchwork.org/wp-content/uploads/2019/01/Flower-Cassie-20b.jpg
END:VEVENT
BEGIN:VEVENT
DTSTART;VALUE=DATE:20190103
DTEND;VALUE=DATE:20190104
DTSTAMP:20260425T144341
CREATED:20181206T231450Z
LAST-MODIFIED:20181206T231450Z
UID:2823-1546473600-1546559999@patchwork.org
SUMMARY:Start of Spring Semester of Arts & Smarts Children's Program
DESCRIPTION:
URL:https://patchwork.org/event/start-of-spring-semester-of-arts-smarts-childrens-program/
LOCATION:IN
END:VEVENT
END:VCALENDAR