BEGIN:VCALENDAR
VERSION:2.0
PRODID:-//Patchwork Central - ECPv6.15.20//NONSGML v1.0//EN
CALSCALE:GREGORIAN
METHOD:PUBLISH
X-WR-CALNAME:Patchwork Central
X-ORIGINAL-URL:https://patchwork.org
X-WR-CALDESC:Events for Patchwork Central
REFRESH-INTERVAL;VALUE=DURATION:PT1H
X-Robots-Tag:noindex
X-PUBLISHED-TTL:PT1H
BEGIN:VTIMEZONE
TZID:UTC
BEGIN:STANDARD
TZOFFSETFROM:+0000
TZOFFSETTO:+0000
TZNAME:UTC
DTSTART:20160101T000000
END:STANDARD
END:VTIMEZONE
BEGIN:VEVENT
DTSTART;TZID=UTC:20170602T180000
DTEND;TZID=UTC:20170602T210000
DTSTAMP:20260425T135720
CREATED:20170530T214201Z
LAST-MODIFIED:20170530T221004Z
UID:2366-1496426400-1496437200@patchwork.org
SUMMARY:June First Friday at Patchwork Central
DESCRIPTION:Music! Art! Children’s Activities! Food! You and your family will find it all at Patchwork Central! \nFor June’s First Friday\, Patchwork will have music by Monte Skelton. We’ll have visual artists selling their work. And we’ll have DeAndre Wilson’s Turntable Kitchen serving up samples of their American Cuisine from our kitchen. \nAlso at Patchwork: a special art lesson for kids at 7 pm! \nYou can pick up supper from food trucks across the street and eat it while you listen to the live music indoors or on Patchwork’s lawn. You will be able to choose from several food trucks.
URL:https://patchwork.org/event/june-first-friday-at-patchwork-central/
LOCATION:Patchwork Central\, 100 Washington Ave\, Evansville\, IN\, 47713\, United States
CATEGORIES:First Friday
ATTACH;FMTTYPE=image/jpeg:https://patchwork.org/wp-content/uploads/2017/05/P1500273.jpg
END:VEVENT
BEGIN:VEVENT
DTSTART;TZID=UTC:20170422T073000
DTEND;TZID=UTC:20170422T113000
DTSTAMP:20260425T135720
CREATED:20170419T180356Z
LAST-MODIFIED:20170419T180356Z
UID:2193-1492846200-1492860600@patchwork.org
SUMMARY:Patchwork's Spring Pancake Extravaganza
DESCRIPTION:
URL:https://patchwork.org/event/patchworks-spring-pancake-extravaganza/
LOCATION:Patchwork Central\, 100 Washington Ave\, Evansville\, IN\, 47713\, United States
ORGANIZER;CN="Amy Rich":MAILTO:amyrich@patchwork.org
END:VEVENT
END:VCALENDAR