BEGIN:VCALENDAR
VERSION:2.0
PRODID:-//Patchwork Central - ECPv6.15.20//NONSGML v1.0//EN
CALSCALE:GREGORIAN
METHOD:PUBLISH
X-ORIGINAL-URL:https://patchwork.org
X-WR-CALDESC:Events for Patchwork Central
REFRESH-INTERVAL;VALUE=DURATION:PT1H
X-Robots-Tag:noindex
X-PUBLISHED-TTL:PT1H
BEGIN:VTIMEZONE
TZID:UTC
BEGIN:STANDARD
TZOFFSETFROM:+0000
TZOFFSETTO:+0000
TZNAME:UTC
DTSTART:20240101T000000
END:STANDARD
END:VTIMEZONE
BEGIN:VEVENT
DTSTART;TZID=UTC:20250905T173000
DTEND;TZID=UTC:20250905T210000
DTSTAMP:20260425T103040
CREATED:20250418T160220Z
LAST-MODIFIED:20250418T160220Z
UID:3884-1757093400-1757106000@patchwork.org
SUMMARY:Haynie's Corner First Friday
DESCRIPTION:Enjoy music at Patchwork by Gibson & Pirro! Eat at food trucks on Washington Avenue and stroll down to the Haynie’s Corner Fountain for a wide selection of art by local artists and additional music.
URL:https://patchwork.org/event/haynies-corner-first-friday-4/
LOCATION:Patchwork Central\, 100 Washington Ave\, Evansville\, IN\, 47713\, United States
CATEGORIES:First Friday
ATTACH;FMTTYPE=image/jpeg:https://patchwork.org/wp-content/uploads/2025/04/P2230095-scaled.jpg
END:VEVENT
BEGIN:VEVENT
DTSTART;TZID=UTC:20251003T173000
DTEND;TZID=UTC:20251003T210000
DTSTAMP:20260425T103040
CREATED:20250418T160541Z
LAST-MODIFIED:20250418T160541Z
UID:3887-1759512600-1759525200@patchwork.org
SUMMARY:Haynie's Corner First Friday
DESCRIPTION:Enjoy music at Patchwork by The LJs! Eat at food trucks on Washington Avenue and stroll down to the Haynie’s Corner Fountain for a wide selection of art by local artists and additional music.
URL:https://patchwork.org/event/haynies-corner-first-friday-5/
LOCATION:Patchwork Central\, 100 Washington Ave\, Evansville\, IN\, 47713\, United States
CATEGORIES:First Friday
ATTACH;FMTTYPE=image/jpeg:https://patchwork.org/wp-content/uploads/2025/04/P2240228-scaled.jpg
END:VEVENT
BEGIN:VEVENT
DTSTART;TZID=UTC:20251022T120000
DTEND;TZID=UTC:20251022T133000
DTSTAMP:20260425T103040
CREATED:20241108T173243Z
LAST-MODIFIED:20241108T173243Z
UID:3820-1761134400-1761139800@patchwork.org
SUMMARY:Soup\, Salad\, & Style
DESCRIPTION:Join us for a delicious lunch and a fabulous style show! Lunch is provided by Venue 812 and fashions are provided by Wildflower. All proceeds benefit Patchwork Central. \n 
URL:https://patchwork.org/event/soup-salad-style-5/
LOCATION:Venue 812\, 1401 N Boeke Rd\, Evansville\, IN\, 47711\, United States
CATEGORIES:Fundraising Events
ATTACH;FMTTYPE=image/jpeg:https://patchwork.org/wp-content/uploads/2024/11/20241016_110330-scaled.jpg
END:VEVENT
BEGIN:VEVENT
DTSTART;TZID=UTC:20260418T073000
DTEND;TZID=UTC:20260418T113000
DTSTAMP:20260425T103040
CREATED:20260206T165428Z
LAST-MODIFIED:20260206T165428Z
UID:3992-1776497400-1776511800@patchwork.org
SUMMARY:Patchwork Pancake Extravaganza
DESCRIPTION:Join us for a morning of pancakes! All proceeds will benefit Patchwork Central.
URL:https://patchwork.org/event/patchwork-pancake-extravaganza-3/
LOCATION:Patchwork Central\, 100 Washington Ave\, Evansville\, IN\, 47713\, United States
CATEGORIES:Fundraising Events
ATTACH;FMTTYPE=image/jpeg:https://patchwork.org/wp-content/uploads/2026/02/P2280368-b-scaled.jpg
END:VEVENT
BEGIN:VEVENT
DTSTART;TZID=UTC:20260501T173000
DTEND;TZID=UTC:20260501T210000
DTSTAMP:20260425T103040
CREATED:20260403T162732Z
LAST-MODIFIED:20260403T162732Z
UID:4015-1777656600-1777669200@patchwork.org
SUMMARY:May First Friday
DESCRIPTION:Stop by Patchwork Central at part of your Haynie’s Corner First Friday Fun!\n\nMay features live music at Patchwork by the Honey Roy & Logan Dyer Duo!\n\nThere’ll be an assortment of food trucks on Washington Avenue in front of Patchwork. Pick up some supper and eat at Patchwork.\nYou can explore the other First Friday activities stretching from Patchwork all the way to the Haynie’s Corner Fountain.
URL:https://patchwork.org/event/may-first-friday-4/
LOCATION:Patchwork Central\, 100 Washington Ave\, Evansville\, IN\, 47713\, United States
CATEGORIES:First Friday
ATTACH;FMTTYPE=image/jpeg:https://patchwork.org/wp-content/uploads/2026/04/May-FIrst-Friday.jpg
END:VEVENT
BEGIN:VEVENT
DTSTART;TZID=UTC:20260605T173000
DTEND;TZID=UTC:20260605T210000
DTSTAMP:20260425T103040
CREATED:20260403T163035Z
LAST-MODIFIED:20260403T163035Z
UID:4018-1780680600-1780693200@patchwork.org
SUMMARY:June First Friday
DESCRIPTION:Stop by Patchwork Central at part of your Haynie’s Corner First Friday Fun!\n\nJune features live music at Patchwork by Gibson & Pirro!\n\nThere will be an assortment of food trucks on Washington Avenue in front of Patchwork. Pick up some supper and eat at Patchwork.\nYou can explore the other First Friday activities stretching from Patchwork all the way to the Haynie’s Corner Fountain.
URL:https://patchwork.org/event/june-first-friday-5/
LOCATION:Patchwork Central\, 100 Washington Ave\, Evansville\, IN\, 47713\, United States
CATEGORIES:First Friday
ATTACH;FMTTYPE=image/jpeg:https://patchwork.org/wp-content/uploads/2026/04/June-First-Friday.jpg
END:VEVENT
BEGIN:VEVENT
DTSTART;TZID=UTC:20260703T173000
DTEND;TZID=UTC:20260703T210000
DTSTAMP:20260425T103040
CREATED:20260403T163214Z
LAST-MODIFIED:20260403T163214Z
UID:4021-1783099800-1783112400@patchwork.org
SUMMARY:July First Friday
DESCRIPTION:Stop by Patchwork Central at part of your Haynie’s Corner First Friday Fun!\n\nJuly features live music at Patchwork by Gavin Vollman!\n\nThere will be an assortment of food trucks on Washington Avenue in front of Patchwork. Pick up some supper and eat at Patchwork.\nYou can explore the other First Friday activities stretching from Patchwork all the way to the Haynie’s Corner Fountain.
URL:https://patchwork.org/event/july-first-friday-4/
LOCATION:IN
CATEGORIES:First Friday
ATTACH;FMTTYPE=image/jpeg:https://patchwork.org/wp-content/uploads/2026/04/July-First-Friday.jpg
END:VEVENT
BEGIN:VEVENT
DTSTART;TZID=UTC:20260807T173000
DTEND;TZID=UTC:20260807T210000
DTSTAMP:20260425T103040
CREATED:20260403T163431Z
LAST-MODIFIED:20260403T163431Z
UID:4024-1786123800-1786136400@patchwork.org
SUMMARY:August First Friday
DESCRIPTION:Stop by Patchwork Central at part of your Haynie’s Corner First Friday Fun!\n\nAugust features live music at Patchwork by The Refugees!\n\nThere will be an assortment of food trucks on Washington Avenue in front of Patchwork. Pick up some supper and eat at Patchwork.\nYou can explore the other First Friday activities stretching from Patchwork all the way to the Haynie’s Corner Fountain
URL:https://patchwork.org/event/august-first-friday-4/
LOCATION:Patchwork Central\, 100 Washington Ave\, Evansville\, IN\, 47713\, United States
CATEGORIES:First Friday
ATTACH;FMTTYPE=image/jpeg:https://patchwork.org/wp-content/uploads/2026/04/August-First-Friday.jpg
END:VEVENT
BEGIN:VEVENT
DTSTART;TZID=UTC:20260904T173000
DTEND;TZID=UTC:20260904T210000
DTSTAMP:20260425T103040
CREATED:20260403T163717Z
LAST-MODIFIED:20260403T163717Z
UID:4027-1788543000-1788555600@patchwork.org
SUMMARY:September First Friday
DESCRIPTION:Stop by Patchwork Central at part of your Haynie’s Corner First Friday Fun!\n\nSeptember features live music at Patchwork by TMSB!\n\nThere will be an assortment of food trucks on Washington Avenue in front of Patchwork. Pick up some supper and eat at Patchwork.\nYou can explore the other First Friday activities stretching from Patchwork all the way to the Haynie’s Corner Fountain.
URL:https://patchwork.org/event/september-first-friday-4/
LOCATION:Patchwork Central\, 100 Washington Ave\, Evansville\, IN\, 47713\, United States
CATEGORIES:First Friday
ATTACH;FMTTYPE=image/jpeg:https://patchwork.org/wp-content/uploads/2026/04/September-First-Friday.jpg
END:VEVENT
BEGIN:VEVENT
DTSTART;TZID=UTC:20261002T173000
DTEND;TZID=UTC:20261002T210000
DTSTAMP:20260425T103040
CREATED:20260403T164152Z
LAST-MODIFIED:20260403T164152Z
UID:4030-1790962200-1790974800@patchwork.org
SUMMARY:October First Friday
DESCRIPTION:Stop by Patchwork Central at part of your Haynie’s Corner First Friday Fun!\n\nOctober features live music at Patchwork by Monte Skelton!\n\nThere will be an assortment of food trucks on Washington Avenue in front of Patchwork. Pick up some supper and eat at Patchwork.\nYou can explore the other First Friday activities stretching from Patchwork all the way to the Haynie’s Corner Fountain.
URL:https://patchwork.org/event/october-first-friday-4/
LOCATION:Patchwork Central\, 100 Washington Ave\, Evansville\, IN\, 47713\, United States
CATEGORIES:First Friday
ATTACH;FMTTYPE=image/jpeg:https://patchwork.org/wp-content/uploads/2026/04/October-First-Friday.jpg
END:VEVENT
END:VCALENDAR