BEGIN:VCALENDAR
VERSION:2.0
PRODID:-//Patchwork Central - ECPv6.15.20//NONSGML v1.0//EN
CALSCALE:GREGORIAN
METHOD:PUBLISH
X-WR-CALNAME:Patchwork Central
X-ORIGINAL-URL:https://patchwork.org
X-WR-CALDESC:Events for Patchwork Central
REFRESH-INTERVAL;VALUE=DURATION:PT1H
X-Robots-Tag:noindex
X-PUBLISHED-TTL:PT1H
BEGIN:VTIMEZONE
TZID:UTC
BEGIN:STANDARD
TZOFFSETFROM:+0000
TZOFFSETTO:+0000
TZNAME:UTC
DTSTART:20200101T000000
END:STANDARD
END:VTIMEZONE
BEGIN:VEVENT
DTSTART;TZID=UTC:20241016T113000
DTEND;TZID=UTC:20241016T133000
DTSTAMP:20260425T130123
CREATED:20240412T161422Z
LAST-MODIFIED:20240820T224851Z
UID:3728-1729078200-1729085400@patchwork.org
SUMMARY:Soup\, Salad\, & Style
DESCRIPTION:Join us for a delicious lunch and a fabulous style show! Lunch is provided by Venue 812 and fashions are provided by Wildflower. All proceeds benefit Patchwork Central. \nPurchase tickets here!
URL:https://patchwork.org/event/soup-salad-style-4/
LOCATION:Venue 812\, 1401 N Boeke Rd\, Evansville\, IN\, 47711\, United States
CATEGORIES:Fundraising Events
ATTACH;FMTTYPE=image/jpeg:https://patchwork.org/wp-content/uploads/2023/10/20231011_110727-scaled.jpg
END:VEVENT
BEGIN:VEVENT
DTSTART;TZID=UTC:20241004T173000
DTEND;TZID=UTC:20241004T210000
DTSTAMP:20260425T130123
CREATED:20240412T160151Z
LAST-MODIFIED:20240412T160151Z
UID:3716-1728063000-1728075600@patchwork.org
SUMMARY:October First Friday
DESCRIPTION:Join us for food trucks\, live music\, and First Friday fun!\n\nFood trucks will be parked on Washington Avenue and Patchwork’s building will be open to guests. You can eat on our front lawn or indoors. The event is family-friendly.\n\nFrom Patchwork\, you can stroll down to the main First Friday activities around the Haynie’s Corner fountain!
URL:https://patchwork.org/event/october-first-friday-3/
LOCATION:Patchwork Central\, 100 Washington Ave\, Evansville\, IN\, 47713\, United States
CATEGORIES:First Friday
ATTACH;FMTTYPE=image/jpeg:https://patchwork.org/wp-content/uploads/2024/04/P2200540-scaled.jpg
END:VEVENT
BEGIN:VEVENT
DTSTART;TZID=UTC:20240906T173000
DTEND;TZID=UTC:20240906T210000
DTSTAMP:20260425T130123
CREATED:20240412T155902Z
LAST-MODIFIED:20240412T155902Z
UID:3712-1725643800-1725656400@patchwork.org
SUMMARY:September First Friday
DESCRIPTION:Join us for food trucks\, live music\, and First Friday fun! Our September musical guest will be Monte Skelton!\n\nFood trucks will be parked on Washington Avenue and Patchwork’s building will be open to guests. You can eat on our front lawn or indoors. The event is family-friendly.\n\nFrom Patchwork\, you can stroll down to the main First Friday activities around the Haynie’s Corner fountain!
URL:https://patchwork.org/event/september-first-friday-3/
LOCATION:Patchwork Central\, 100 Washington Ave\, Evansville\, IN\, 47713\, United States
CATEGORIES:First Friday
ATTACH;FMTTYPE=image/jpeg:https://patchwork.org/wp-content/uploads/2024/04/P2200005-scaled.jpg
END:VEVENT
BEGIN:VEVENT
DTSTART;TZID=UTC:20240802T173000
DTEND;TZID=UTC:20240802T210000
DTSTAMP:20260425T130123
CREATED:20240412T155636Z
LAST-MODIFIED:20240412T155945Z
UID:3709-1722619800-1722632400@patchwork.org
SUMMARY:August First Friday
DESCRIPTION:Join us for food trucks\, live music\, and First Friday fun! Our August musical guests will be The Refugees!\n\nFood trucks will be parked on Washington Avenue and Patchwork’s building will be open to guests. You can eat on our front lawn or indoors. The event is family-friendly.\n\nFrom Patchwork\, you can stroll down to the main First Friday activities around the Haynie’s Corner fountain!
URL:https://patchwork.org/event/august-first-friday-3/
LOCATION:Patchwork Central\, 100 Washington Ave\, Evansville\, IN\, 47713\, United States
CATEGORIES:First Friday
ATTACH;FMTTYPE=image/jpeg:https://patchwork.org/wp-content/uploads/2024/04/P2190787-scaled.jpg
END:VEVENT
BEGIN:VEVENT
DTSTART;TZID=UTC:20240718T170000
DTEND;TZID=UTC:20240718T190000
DTSTAMP:20260425T130123
CREATED:20240412T161023Z
LAST-MODIFIED:20240412T161023Z
UID:3725-1721322000-1721329200@patchwork.org
SUMMARY:Arts & Smarts Garden Feast
DESCRIPTION:Summer Arts & Smarts participants\, volunteers\, staff\, and their families are invited to join us in celebrating the summer at Patchwork!
URL:https://patchwork.org/event/arts-smarts-garden-feast-2/
LOCATION:Patchwork Central\, 100 Washington Ave\, Evansville\, IN\, 47713\, United States
CATEGORIES:Arts & Smarts Events
ATTACH;FMTTYPE=image/jpeg:https://patchwork.org/wp-content/uploads/2024/04/P2190691-sm.jpg
END:VEVENT
BEGIN:VEVENT
DTSTART;TZID=UTC:20240705T173000
DTEND;TZID=UTC:20240705T210000
DTSTAMP:20260425T130123
CREATED:20240412T155324Z
LAST-MODIFIED:20240412T155324Z
UID:3705-1720200600-1720213200@patchwork.org
SUMMARY:July First Friday
DESCRIPTION:Join us for food trucks\, live music\, and First Friday fun! Our July musical guests will be The Honey Roy Duo!\n\nFood trucks will be parked on Washington Avenue and Patchwork’s building will be open to guests. You can eat on our front lawn or indoors. The event is family-friendly.\n\nFrom Patchwork\, you can stroll down to the main First Friday activities around the Haynie’s Corner fountain!
URL:https://patchwork.org/event/july-first-friday-3/
LOCATION:IN
CATEGORIES:First Friday
ATTACH;FMTTYPE=image/jpeg:https://patchwork.org/wp-content/uploads/2024/04/P2200552-scaled.jpg
END:VEVENT
BEGIN:VEVENT
DTSTART;TZID=UTC:20240607T173000
DTEND;TZID=UTC:20240607T210000
DTSTAMP:20260425T130123
CREATED:20240412T155011Z
LAST-MODIFIED:20240412T155352Z
UID:3701-1717781400-1717794000@patchwork.org
SUMMARY:June First Friday
DESCRIPTION:Join us for food trucks\, live music\, and First Friday fun! Our June musical guests will be Sassafras!\n\nFood trucks will be parked on Washington Avenue and Patchwork’s building will be open to guests. You can eat on our front lawn or indoors. The event is family-friendly.\n\nFrom Patchwork\, you can stroll down to the main First Friday activities around the Haynie’s Corner fountain!
URL:https://patchwork.org/event/june-first-friday-4/
LOCATION:Patchwork Central\, 100 Washington Ave\, Evansville\, IN\, 47713\, United States
CATEGORIES:First Friday
ATTACH;FMTTYPE=image/jpeg:https://patchwork.org/wp-content/uploads/2024/04/P2200555-scaled.jpg
END:VEVENT
BEGIN:VEVENT
DTSTART;TZID=UTC:20240603T150000
DTEND;TZID=UTC:20240603T180000
DTSTAMP:20260425T130123
CREATED:20240412T160733Z
LAST-MODIFIED:20240412T160733Z
UID:3722-1717426800-1717437600@patchwork.org
SUMMARY:First Day of Summer Arts & Smarts
DESCRIPTION:Check with our main office or on our website for additional information on how to sign your child up!
URL:https://patchwork.org/event/first-day-of-summer-arts-smarts-2/
LOCATION:Patchwork Central\, 100 Washington Ave\, Evansville\, IN\, 47713\, United States
CATEGORIES:Arts & Smarts Events
ATTACH;FMTTYPE=image/jpeg:https://patchwork.org/wp-content/uploads/2024/04/P2170675-scaled.jpg
END:VEVENT
BEGIN:VEVENT
DTSTART;TZID=UTC:20240503T173000
DTEND;TZID=UTC:20240503T210000
DTSTAMP:20260425T130123
CREATED:20240412T154612Z
LAST-MODIFIED:20240412T154612Z
UID:3698-1714757400-1714770000@patchwork.org
SUMMARY:May First Friday
DESCRIPTION:Join us for food trucks\, live music\, and First Friday fun! Our May musical guests will be Gibson and Pirro!\n\nFood trucks will be parked on Washington Avenue and Patchwork’s building will be open to guests. You can eat on our front lawn or indoors. The event is family-friendly.\n\nFrom Patchwork\, you can stroll down to the main First Friday activities around the Haynie’s Corner fountain!
URL:https://patchwork.org/event/may-first-friday-3/
LOCATION:Patchwork Central\, 100 Washington Ave\, Evansville\, IN\, 47713\, United States
CATEGORIES:First Friday
ATTACH;FMTTYPE=image/jpeg:https://patchwork.org/wp-content/uploads/2024/04/P2180637-scaled.jpg
END:VEVENT
BEGIN:VEVENT
DTSTART;TZID=UTC:20240425T170000
DTEND;TZID=UTC:20240425T190000
DTSTAMP:20260425T130123
CREATED:20240412T160456Z
LAST-MODIFIED:20240412T160456Z
UID:3719-1714064400-1714071600@patchwork.org
SUMMARY:Arts & Smarts End of the School Year Celebration
DESCRIPTION:Our Arts & Smarts participants\, volunteers\, staff\, and their families are invited to join us in a celebration of everything we’ve accomplished this year!
URL:https://patchwork.org/event/arts-smarts-end-of-the-school-year-celebration/
LOCATION:Patchwork Central\, 100 Washington Ave\, Evansville\, IN\, 47713\, United States
CATEGORIES:Arts & Smarts Events
ATTACH;FMTTYPE=image/jpeg:https://patchwork.org/wp-content/uploads/2024/04/P2170483-scaled.jpg
END:VEVENT
BEGIN:VEVENT
DTSTART;TZID=UTC:20240420T073000
DTEND;TZID=UTC:20240420T113000
DTSTAMP:20260425T130123
CREATED:20240119T171209Z
LAST-MODIFIED:20240119T171209Z
UID:3670-1713598200-1713612600@patchwork.org
SUMMARY:Patchwork Pancake Extravaganza
DESCRIPTION:Come enjoy pancakes with your neighbors and help raise money to support Patchwork’s programming!
URL:https://patchwork.org/event/patchwork-pancake-extravaganza-2/
LOCATION:Patchwork Central\, 100 Washington Ave\, Evansville\, IN\, 47713\, United States
CATEGORIES:Fundraising Events
ATTACH;FMTTYPE=image/jpeg:https://patchwork.org/wp-content/uploads/2024/01/P2170326-scaled.jpg
END:VEVENT
BEGIN:VEVENT
DTSTART;TZID=UTC:20231011T120000
DTEND;TZID=UTC:20231011T133000
DTSTAMP:20260425T130123
CREATED:20230801T221243Z
LAST-MODIFIED:20230801T221243Z
UID:3606-1697025600-1697031000@patchwork.org
SUMMARY:Soup\, Salad\, and STYLE!
DESCRIPTION:Come celebrate Fall Fashions by Wildflower Boutique\, enjoy a delicious lunch\, and receive artwork by the children in Patchwork Central’s Arts & Smarts Children’s Program!\n*Individual guest tickets cost $50 and include lunch and a set of notecards designed by the Arts & Smarts children.\n*Patron tickets cost $100 and include lunch\, notecards\, and a plant!\n*To purchase a ticket\, send a check to Patchwork. Please note that your payment is for the Soup\, Salad\, and Style luncheon OR purchase one online here.\n*Sponsorship opportunities are available at $100\, $250\, $500\, & $1000 levels. Contact Patchwork if you are interested in being a sponsor!\nAll proceeds benefit Patchwork Central to support its programming in our community!
URL:https://patchwork.org/event/soup-salad-and-style/
LOCATION:Venue 812\, 1401 N Boeke Rd\, Evansville\, IN\, 47711\, United States
CATEGORIES:Fundraising Events
ATTACH;FMTTYPE=image/jpeg:https://patchwork.org/wp-content/uploads/2023/08/Flower-Cassie-20b-scaled.jpg
END:VEVENT
BEGIN:VEVENT
DTSTART;TZID=UTC:20231006T173000
DTEND;TZID=UTC:20231006T210000
DTSTAMP:20260425T130123
CREATED:20230329T213245Z
LAST-MODIFIED:20230920T215132Z
UID:3536-1696613400-1696626000@patchwork.org
SUMMARY:First Friday
DESCRIPTION:Join us for live music and food trucks! Stroll down to Haynie’s Corner for more fun!
URL:https://patchwork.org/event/first-friday-6/
LOCATION:Patchwork Central\, 100 Washington Ave\, Evansville\, IN\, 47713\, United States
CATEGORIES:First Friday
END:VEVENT
BEGIN:VEVENT
DTSTART;TZID=UTC:20230901T170000
DTEND;TZID=UTC:20230901T210000
DTSTAMP:20260425T130123
CREATED:20230329T213154Z
LAST-MODIFIED:20230329T213154Z
UID:3533-1693587600-1693602000@patchwork.org
SUMMARY:First Friday
DESCRIPTION:Join us for live music and food trucks! Stroll down to Haynie’s Corner for more fun!
URL:https://patchwork.org/event/first-friday-5/
LOCATION:Patchwork Central\, 100 Washington Ave\, Evansville\, IN\, 47713\, United States
CATEGORIES:First Friday
END:VEVENT
BEGIN:VEVENT
DTSTART;TZID=UTC:20230804T170000
DTEND;TZID=UTC:20230804T210000
DTSTAMP:20260425T130123
CREATED:20230329T213026Z
LAST-MODIFIED:20230329T213026Z
UID:3530-1691168400-1691182800@patchwork.org
SUMMARY:First Friday
DESCRIPTION:Join us for live music and food trucks! Stroll down to Haynie’s Corner for more fun!
URL:https://patchwork.org/event/first-friday-4/
LOCATION:Patchwork Central\, 100 Washington Ave\, Evansville\, IN\, 47713\, United States
CATEGORIES:First Friday
END:VEVENT
BEGIN:VEVENT
DTSTART;TZID=UTC:20230707T170000
DTEND;TZID=UTC:20230707T210000
DTSTAMP:20260425T130123
CREATED:20230329T212917Z
LAST-MODIFIED:20230329T212917Z
UID:3526-1688749200-1688763600@patchwork.org
SUMMARY:First Friday
DESCRIPTION:Join us for live music and food trucks! Stroll down to Haynie’s Corner for more fun!
URL:https://patchwork.org/event/first-friday-3/
LOCATION:Patchwork Central\, 100 Washington Ave\, Evansville\, IN\, 47713\, United States
CATEGORIES:First Friday
END:VEVENT
BEGIN:VEVENT
DTSTART;TZID=UTC:20230602T170000
DTEND;TZID=UTC:20230602T210000
DTSTAMP:20260425T130123
CREATED:20230329T212743Z
LAST-MODIFIED:20230329T212743Z
UID:3524-1685725200-1685739600@patchwork.org
SUMMARY:First Friday
DESCRIPTION:Join us for live music and food trucks! Stroll down to Haynie’s Corner for more fun!
URL:https://patchwork.org/event/first-friday-2/
LOCATION:Patchwork Central\, 100 Washington Ave\, Evansville\, IN\, 47713\, United States
CATEGORIES:First Friday
END:VEVENT
BEGIN:VEVENT
DTSTART;TZID=UTC:20230520T140000
DTEND;TZID=UTC:20230520T150000
DTSTAMP:20260425T130123
CREATED:20230329T212359Z
LAST-MODIFIED:20230329T212803Z
UID:3520-1684591200-1684594800@patchwork.org
SUMMARY:Memorial Seating Area Dedication
DESCRIPTION:Dedication of a new seating area created in memory of Alan Winslow\, Beth Stone\, and Darlene Blagg.
URL:https://patchwork.org/event/memorial-seating-area-dedication/
LOCATION:Patchwork Central\, 100 Washington Ave\, Evansville\, IN\, 47713\, United States
CATEGORIES:Other
END:VEVENT
BEGIN:VEVENT
DTSTART;TZID=UTC:20230505T170000
DTEND;TZID=UTC:20230505T210000
DTSTAMP:20260425T130123
CREATED:20230329T212634Z
LAST-MODIFIED:20230329T212819Z
UID:3522-1683306000-1683320400@patchwork.org
SUMMARY:First Friday
DESCRIPTION:Join us for live music and food trucks! Stroll down to Haynie’s Corner for more fun!
URL:https://patchwork.org/event/first-friday/
LOCATION:IN
CATEGORIES:First Friday
END:VEVENT
BEGIN:VEVENT
DTSTART;TZID=UTC:20230422T073000
DTEND;TZID=UTC:20230422T113000
DTSTAMP:20260425T130123
CREATED:20230120T001854Z
LAST-MODIFIED:20230120T001854Z
UID:3491-1682148600-1682163000@patchwork.org
SUMMARY:Patchwork Pancake Extravaganza
DESCRIPTION:Eat pancakes! Visit with your neighbors! Help Patchwork!
URL:https://patchwork.org/event/patchwork-pancake-extravaganza/
LOCATION:Patchwork Central\, 100 Washington Ave\, Evansville\, IN\, 47713\, United States
CATEGORIES:Fundraising Events
ATTACH;FMTTYPE=image/jpeg:https://patchwork.org/wp-content/uploads/2023/01/pancakes-of-the-past.jpg
END:VEVENT
BEGIN:VEVENT
DTSTART;TZID=UTC:20230413T173000
DTEND;TZID=UTC:20230413T190000
DTSTAMP:20260425T130123
CREATED:20230413T210000Z
LAST-MODIFIED:20230413T210000Z
UID:3544-1681407000-1681412400@patchwork.org
SUMMARY:End of the School Year Celebration
DESCRIPTION:Arts & Smarts Children’s Program participants\, volunteers\, and their families can join us to celebrate our accomplishments from the school year!
URL:https://patchwork.org/event/end-of-the-school-year-celebration-3/
LOCATION:Patchwork Central\, 100 Washington Ave\, Evansville\, IN\, 47713\, United States
CATEGORIES:Arts & Smarts Events
END:VEVENT
BEGIN:VEVENT
DTSTART;TZID=UTC:20220723T150000
DTEND;TZID=UTC:20220723T190000
DTSTAMP:20260425T130123
CREATED:20220325T150031Z
LAST-MODIFIED:20220325T150031Z
UID:3390-1658588400-1658602800@patchwork.org
SUMMARY:Alan Winslow Celebration of Life
DESCRIPTION:Come celebrate the life of Alan Winslow! Alan would have turned 100 in July\, 2022\, so it seems the perfect time to remember him.\n\nPatchwork Central will host a celebration of Alan’s life on July 23\, 2022. We will begin with an open house from 3 pm-5 pm. A program will begin at 5 pm.\n\nIf you live outside the Evansville area and plan to come to the event\, please let us know! Send us a message or call our main office at: 812-424-2735.
URL:https://patchwork.org/event/alan-winslow-celebration-of-life/
LOCATION:Patchwork Central\, 100 Washington Ave\, Evansville\, IN\, 47713\, United States
CATEGORIES:Other
ATTACH;FMTTYPE=image/jpeg:https://patchwork.org/wp-content/uploads/2022/03/P1110770-sm.jpg
END:VEVENT
BEGIN:VEVENT
DTSTART;TZID=UTC:20220625T133000
DTEND;TZID=UTC:20220625T143000
DTSTAMP:20260425T130123
CREATED:20220325T150246Z
LAST-MODIFIED:20220325T150246Z
UID:3393-1656163800-1656167400@patchwork.org
SUMMARY:Beth Stone Memorial Service
DESCRIPTION:Come celebrate the life of Beth Stone.
URL:https://patchwork.org/event/beth-stone-memorial-service/
LOCATION:IN
CATEGORIES:Other
ATTACH;FMTTYPE=image/jpeg:https://patchwork.org/wp-content/uploads/2022/03/Beth-scaled.jpg
END:VEVENT
BEGIN:VEVENT
DTSTART;TZID=UTC:20220603T173000
DTEND;TZID=UTC:20220603T210000
DTSTAMP:20260425T130123
CREATED:20220422T154955Z
LAST-MODIFIED:20220422T154955Z
UID:3407-1654277400-1654290000@patchwork.org
SUMMARY:June First Friday
DESCRIPTION:Join us for First Friday in the Haynie’s Corner Arts District! Enjoy food trucks parked on Washington Avenue in front of Patchwork Central and live music in Patchwork’s tower.\n\nOur May musical guest will be the Honey Roy Duo!\n\nFrom Patchwork\, you can walk to the other First Friday activities at the fountain on Haynie’s Corner
URL:https://patchwork.org/event/june-first-friday-3/
LOCATION:Patchwork Central\, 100 Washington Ave\, Evansville\, IN\, 47713\, United States
CATEGORIES:First Friday
ATTACH;FMTTYPE=image/jpeg:https://patchwork.org/wp-content/uploads/2022/04/P2040201-scaled.jpg
END:VEVENT
BEGIN:VEVENT
DTSTART;TZID=UTC:20220506T173000
DTEND;TZID=UTC:20220506T210000
DTSTAMP:20260425T130123
CREATED:20220325T150515Z
LAST-MODIFIED:20220325T150515Z
UID:3396-1651858200-1651870800@patchwork.org
SUMMARY:May First Friday
DESCRIPTION:Join us for First Friday in the Haynie’s Corner Arts District! Enjoy food trucks parked on Washington Avenue in front of Patchwork Central and live music in Patchwork’s tower.\n\nOur May musical guest will be Sassafras!\n\nFrom Patchwork\, you can walk to the other First Friday activities at the fountain on Haynie’s Corner
URL:https://patchwork.org/event/may-first-friday-2/
LOCATION:IN
CATEGORIES:First Friday
ATTACH;FMTTYPE=image/jpeg:https://patchwork.org/wp-content/uploads/2022/03/P2040703-scaled.jpg
END:VEVENT
BEGIN:VEVENT
DTSTART;TZID=UTC:20211001T173000
DTEND;TZID=UTC:20211001T210000
DTSTAMP:20260425T130123
CREATED:20210527T220422Z
LAST-MODIFIED:20210527T220422Z
UID:3289-1633109400-1633122000@patchwork.org
SUMMARY:October First Friday
DESCRIPTION:Join us for First Friday in the Haynie’s Corner Arts District! Enjoy food trucks on Washington Avenue in front of Patchwork Central and live music in Patchwork’s tower. From Patchwork\, you can walk to the other First Friday activities at the fountain on Haynie’s Corner or you can walk to Stef L’s Amour First Friday Block Party.
URL:https://patchwork.org/event/october-first-friday-2/
LOCATION:IN
CATEGORIES:First Friday
ATTACH;FMTTYPE=image/jpeg:https://patchwork.org/wp-content/uploads/2021/05/P1860180-scaled.jpg
END:VEVENT
BEGIN:VEVENT
DTSTART;TZID=UTC:20210903T173000
DTEND;TZID=UTC:20210903T210000
DTSTAMP:20260425T130123
CREATED:20210527T220235Z
LAST-MODIFIED:20210527T220235Z
UID:3286-1630690200-1630702800@patchwork.org
SUMMARY:September First Friday
DESCRIPTION:Join us for First Friday in the Haynie’s Corner Arts District! Enjoy food trucks on Washington Avenue in front of Patchwork Central and live music in Patchwork’s tower. From Patchwork\, you can walk to the other First Friday activities at the fountain on Haynie’s Corner or you can walk to Stef L’s Amour First Friday Block Party.
URL:https://patchwork.org/event/september-first-friday-2/
LOCATION:Patchwork Central\, 100 Washington Ave\, Evansville\, IN\, 47713\, United States
CATEGORIES:First Friday
ATTACH;FMTTYPE=image/jpeg:https://patchwork.org/wp-content/uploads/2021/05/P1830873-scaled.jpg
END:VEVENT
BEGIN:VEVENT
DTSTART;TZID=UTC:20210812T170000
DTEND;TZID=UTC:20210812T190000
DTSTAMP:20260425T130123
CREATED:20210805T220243Z
LAST-MODIFIED:20210805T220243Z
UID:3313-1628787600-1628794800@patchwork.org
SUMMARY:Extended Back to School Sale
DESCRIPTION:Still need to get your kids ready for the new school year? We still have a few bags of school supplies left. Bags for grades K-3 cost $6. Bags for grades 4 & 5 cost $8.
URL:https://patchwork.org/event/extended-back-to-school-sale-2/
LOCATION:Patchwork Central\, 100 Washington Ave\, Evansville\, IN\, 47713\, United States
CATEGORIES:Other
END:VEVENT
BEGIN:VEVENT
DTSTART;TZID=UTC:20210810T170000
DTEND;TZID=UTC:20210810T190000
DTSTAMP:20260425T130123
CREATED:20210805T220014Z
LAST-MODIFIED:20210805T220014Z
UID:3311-1628614800-1628622000@patchwork.org
SUMMARY:Extended Back to School Sale
DESCRIPTION:Still need to get your child ready for school? We have a few bags of school supplies left! Bags for grades K-3 cost $6. Bags for grades 4 & 5 cost $8.
URL:https://patchwork.org/event/extended-back-to-school-sale/
LOCATION:Patchwork Central\, 100 Washington Ave\, Evansville\, IN\, 47713\, United States
CATEGORIES:Other
END:VEVENT
BEGIN:VEVENT
DTSTART;TZID=UTC:20210806T173000
DTEND;TZID=UTC:20210806T210000
DTSTAMP:20260425T130123
CREATED:20210527T220004Z
LAST-MODIFIED:20210527T220004Z
UID:3283-1628271000-1628283600@patchwork.org
SUMMARY:August First Friday
DESCRIPTION:Join us for First Friday in the Haynie’s Corner Arts District! Enjoy food trucks on Washington Avenue in front of Patchwork Central and live music in Patchwork’s tower. From Patchwork\, you can walk to the other First Friday activities at the fountain on Haynie’s Corner or you can walk to Stef L’s Amour First Friday Block Party.
URL:https://patchwork.org/event/august-first-friday-2/
LOCATION:Patchwork Central\, 100 Washington Ave\, Evansville\, IN\, 47713\, United States
CATEGORIES:First Friday
ATTACH;FMTTYPE=image/jpeg:https://patchwork.org/wp-content/uploads/2021/05/P1800230-scaled.jpg
END:VEVENT
END:VCALENDAR