BEGIN:VCALENDAR
VERSION:2.0
PRODID:-//Patchwork Central - ECPv6.15.20//NONSGML v1.0//EN
CALSCALE:GREGORIAN
METHOD:PUBLISH
X-WR-CALNAME:Patchwork Central
X-ORIGINAL-URL:https://patchwork.org
X-WR-CALDESC:Events for Patchwork Central
REFRESH-INTERVAL;VALUE=DURATION:PT1H
X-Robots-Tag:noindex
X-PUBLISHED-TTL:PT1H
BEGIN:VTIMEZONE
TZID:UTC
BEGIN:STANDARD
TZOFFSETFROM:+0000
TZOFFSETTO:+0000
TZNAME:UTC
DTSTART:20230101T000000
END:STANDARD
END:VTIMEZONE
BEGIN:VEVENT
DTSTART;TZID=UTC:20240425T170000
DTEND;TZID=UTC:20240425T190000
DTSTAMP:20260425T205609
CREATED:20240412T160456Z
LAST-MODIFIED:20240412T160456Z
UID:3719-1714064400-1714071600@patchwork.org
SUMMARY:Arts & Smarts End of the School Year Celebration
DESCRIPTION:Our Arts & Smarts participants\, volunteers\, staff\, and their families are invited to join us in a celebration of everything we’ve accomplished this year!
URL:https://patchwork.org/event/arts-smarts-end-of-the-school-year-celebration/
LOCATION:Patchwork Central\, 100 Washington Ave\, Evansville\, IN\, 47713\, United States
CATEGORIES:Arts & Smarts Events
ATTACH;FMTTYPE=image/jpeg:https://patchwork.org/wp-content/uploads/2024/04/P2170483-scaled.jpg
END:VEVENT
END:VCALENDAR